BEGIN:VCALENDAR
VERSION:2.0
PRODID:icalendar-ruby
CALSCALE:GREGORIAN
BEGIN:VEVENT
DTSTAMP:20260420T134717Z
UID:e162ce40-63c1-48cd-b13a-ed3fc5823392
DTSTART:20260514T080000
DTEND:20260514T150000
DESCRIPTION:Preise :- Trodel 1. Meter 12. €. 2.Meter 22.€. Angebot Trö
 del 5. Meter 30.€. jeder weitere Meter 5. €.\n Keine Neuware.\nBesuch
 er Eintritt 1 €.\n 
LOCATION:Lüneburger Straße 1 30880 Rethen (Leine)
SUMMARY:Metro Parkplatz Laatzen - Rethen Keine Neuware
END:VEVENT
END:VCALENDAR
