BEGIN:VCALENDAR
VERSION:2.0
PRODID:icalendar-ruby
CALSCALE:GREGORIAN
BEGIN:VEVENT
DTSTAMP:20260424T035239Z
UID:bca74437-10d0-4479-99d7-074978fad2cb
DTSTART:20260614T110000
DTEND:20260614T180000
DESCRIPTION:Infos und Anmeldung unter der Nummer 0151-11 646 999Sven Vogt
LOCATION:Sonsbecker Straße 19A 46509 
SUMMARY:Trödelmarkt in Xanten
END:VEVENT
END:VCALENDAR
