BEGIN:VCALENDAR
VERSION:2.0
PRODID:icalendar-ruby
CALSCALE:GREGORIAN
BEGIN:VEVENT
DTSTAMP:20260424T053626Z
UID:89699b12-213a-4e0f-af51-c2c0765a9f59
DTSTART:20260809T110000
DTEND:20260809T180000
DESCRIPTION:Infos und Anmeldung unter der Nummer 0151-11 646 999Sven Vogt
LOCATION:Sonsbecker Straße 19A 46509 
SUMMARY:Trödelmarkt in Xanten
END:VEVENT
END:VCALENDAR
