BEGIN:VCALENDAR
VERSION:2.0
PRODID:icalendar-ruby
CALSCALE:GREGORIAN
BEGIN:VEVENT
DTSTAMP:20260425T175454Z
UID:4cf53349-c880-4977-8c32-7ae79b75e832
DTSTART:20261128T080000
DTEND:20261128T160000
DESCRIPTION:Flohmarkt bei Sigmaringen Richtung Balingen\nParkpl.ehem.Gastho
 f Nollhof\n laufende Meter 9.- €\nvon 08°°-16°° Uhr\nAuto am Stand 
 !!!\nKeine Anmeldung erforderlich !!!!\nNeuware unerwünscht !!!!
LOCATION:Nollhofstraße 1 72488 Nollhof
SUMMARY: Parkpl. Gasthof Nollhof
END:VEVENT
END:VCALENDAR
