BEGIN:VCALENDAR
VERSION:2.0
PRODID:icalendar-ruby
CALSCALE:GREGORIAN
BEGIN:VEVENT
DTSTAMP:20260422T095828Z
UID:8bf12a5a-6a4c-4ad8-8d01-df7a0cb17cff
DTSTART:20260614T110000
DTEND:20260614T160000
DESCRIPTION:Infos unter www.richter-troedelmaerkte.de\n
LOCATION:Kruppstraße 4 47475 
SUMMARY:OBI
END:VEVENT
END:VCALENDAR
