BEGIN:VCALENDAR
VERSION:2.0
PRODID:icalendar-ruby
CALSCALE:GREGORIAN
BEGIN:VEVENT
DTSTAMP:20260421T211417Z
UID:2c970088-379f-4b30-9bb0-a7752a370408
DTSTART:20260816T110000
DTEND:20260816T160000
DESCRIPTION:Infos unter www.richter-troedelmaerkte.de\n
LOCATION:Kruppstraße 4 47475 
SUMMARY:OBI
END:VEVENT
END:VCALENDAR
