BEGIN:VCALENDAR
VERSION:2.0
PRODID:icalendar-ruby
CALSCALE:GREGORIAN
BEGIN:VEVENT
DTSTAMP:20260422T082022Z
UID:93572410-696c-40e7-98a5-1b0ba1f2d077
DTSTART:20261004T110000
DTEND:20261004T160000
DESCRIPTION:Infos unter www.richter-troedelmaerkte.de\n
LOCATION:Kruppstraße 4 47475 
SUMMARY:OBI
END:VEVENT
END:VCALENDAR
