BEGIN:VCALENDAR
VERSION:2.0
PRODID:icalendar-ruby
CALSCALE:GREGORIAN
BEGIN:VEVENT
DTSTAMP:20260425T032244Z
UID:fc30a44e-f2de-470f-a887-0924a422b6a7
DTSTART:20260531T100000
DTEND:20260531T180000
DESCRIPTION:Auch dieses Jahr findet parallel zur Antik-Uhrenbörse (im Uhre
 nmuseum und einem weiteren Gebäude) ein Kunst-\, Antik- und Trödelmarkt 
 am Uhrenmuseum\, im Zeitgarten\, auf der Schillerstraße vom Zeitgarten bi
 s zum Museumsvorplatz von 10 bis 18 Uhr statt. Aufbau nicht vor 8 Uhr!! Du
 rch die internationale Antik-Uhrenbörse werden internationale Besucher er
 wartet.\nBitte nur edle Ware\, sowie Selbstgemachtes &amp\; kreatives\,  
 3 m 25 Euro\, jeder weitere Meter 5 Euro. Mindestens 3 m. Auto nicht am St
 and\, aber in der Nähe. Keine Kleidungsstände. Schöne selbstgemachte Di
 nge nach Absprache auch möglich.\nAnmeldung unter www.flohmarkt-sachsen.d
 e\n \nIn wenigen Tagen ist es soweit: Glashütte feiert wieder die Erlebn
 isZEIT am 13. und 14. Mai. Die Lust dazu ist bei uns als Stadt genauso da\
 , wie auch bei allen Vereinen\, Einzelhändlern\, Künstlern\, Unternehmen
  und Organisationen\, die in diesem Jahr dabei sein werden.\nAn beiden Tag
 en wird für den kulinarischen Genuss auf dem Markt\, durch verschiedene H
 ändler sowie am Museum\, durch das Restaurant Smac’s\, gesorgt sein. Am
  Sonntag heißt es ab 10 Uhr Spiel\, Spaß\, Musik\, Künstler\, Oldtimer\
 , Antik-Uhrenbörse und auch der Kunst- Antik- und Trödelmarkt aus Dresde
 n wird vor Ort sein mit seinen zahlreichen Händlern. Vom Museumsvorplatz\
 , über Schillerstraße\, Schulstraße und bis zum Markt wird bis 18 Uhr b
 untes Treiben herrschen. \nZum Glashütter Stadtfest "ErlebnisZEIT" finde
 t der Kunst-\, Antik- und Trödelmarkt im "Zeitgarten" am Uhrenmuseum (Sc
 hillerstraße und Zeitgarten) statt. Experten schätzen vor Ort auch Antiq
 uitäten\, historische Bücher\, Münzen\, Postkarten und Sammlerobjekte. 
 Weiterhin gibt es im Rahmen der Glashütter ErlebnisZEIT eine Oldtimerauss
 tellung des Ostfahrzeuge Trabant Vereins Osterzgebirge e.V. \, Frühscho
 ppen mit Blasmusik\, und andere Aktionen für Jung und Alt. Der Eintritt
  zu allen Attraktionen ist frei (außer Uhrenmuseum).\nEbenfalls am Sonnt
 ag\, dem 15. Mai findet die 8. Glashütter Antik-Uhrenbörse begleitend zu
 r Glashütter ErlebnisZeit statt. Internationale Händler zeigen ihre brei
 tes Angebot. Uhren aus allen Regionen und Zeiten\, Ersatzteile\, Werkzeuge
 \, Zubehör und Literatur können bestaunt\, gekauft und verkauft werden.\
 nBeim Kunst-\, Antik- und Trödelmarkt kann jeder mittrödeln. Der Standau
 fbau beginnt ab 8.00 Uhr. Standgebühr 3 Meter 25 Euro\, jeder weitere Met
 er 5 Euro. Weitere Informationen unter Telefon 0351/4864-2443\, Anmeldung 
 unter www.flohmarkt-sachsen.de. Besucher nutzen bitte die ausgewiesenen Pa
 rkflächen zum Stadtfest.\n 
LOCATION:Schillerstraße 7 01768 
SUMMARY:Kunst-\, Antik- und Trödelmarkt zur Antik-Uhrenbörse u. Stadtfest
END:VEVENT
END:VCALENDAR
