BEGIN:VCALENDAR
VERSION:2.0
PRODID:icalendar-ruby
CALSCALE:GREGORIAN
BEGIN:VEVENT
DTSTAMP:20260420T090202Z
UID:1b3ef7b9-9184-4aa8-bc5f-99e6cec62701
DTSTART:20260606T110000
DTEND:20260606T170000
DESCRIPTION:Am Samstag den 6. Juni 2026\, von 10-17 Uhr\, gastier der Deuts
 ch-Holländische Stoffmarkt wieder in der City auf dem Marktplatz in Lübe
 ck.\nAn zahlreichen kreativ dekorierten Ständen finden Nähbegeisterte v
 on Stoffen bis Zubehör alles\, rund um das Thema "Nähen".\nDer Eintritt 
 zum Stoffmarkt ist wie gewohnt frei.\nWeitere Informationen erhalten Sie u
 nter:deinstoffmarkt.de
LOCATION:Kohlmarkt 2-4 23552 Lübecker Altstadt
SUMMARY:Stoffmarkt Lübeck
END:VEVENT
END:VCALENDAR
