BEGIN:VCALENDAR
VERSION:2.0
PRODID:icalendar-ruby
CALSCALE:GREGORIAN
BEGIN:VEVENT
DTSTAMP:20260424T131027Z
UID:e267eec0-d8a8-4190-92ce-acf33395efee
DTSTART:20260425T090000
DTEND:20260425T150000
DESCRIPTION:Floh- und Trödelmarkt im Zentrum von Suhl\n\nAuto am Stand\n
LOCATION:Friedrich- König- Straße 98527 
SUMMARY:Platz der  deutschen Einheit
END:VEVENT
END:VCALENDAR
