BEGIN:VCALENDAR
VERSION:2.0
PRODID:icalendar-ruby
CALSCALE:GREGORIAN
BEGIN:VEVENT
DTSTAMP:20260424T113531Z
UID:3ca65402-ad64-4498-904f-7ea68e12aee9
DTSTART:20260613T090000
DTEND:20260613T150000
DESCRIPTION:Floh- und Trödelmarkt im Zentrum von Suhl\n\nAuto am Stand\n
LOCATION:Friedrich- König- Straße 98527 
SUMMARY:Platz der  deutschen Einheit
END:VEVENT
END:VCALENDAR
