BEGIN:VCALENDAR
VERSION:2.0
PRODID:icalendar-ruby
CALSCALE:GREGORIAN
BEGIN:VEVENT
DTSTAMP:20260425T131445Z
UID:e4d93ea6-cb9d-47da-8bb0-bed0b5ada36c
DTSTART:20261107T110000
DTEND:20261107T180000
DESCRIPTION:Alles außer gewöhnlich - handmade Kreativmarkt - der Marktpla
 tz für Kreative\, Designer &amp\; Individualisten\nWillkommen beim Kreati
 vmarkt für die ganze Familie\, für Menschen\, die Produkte jenseits der 
 Stange suchen\, der große Markt für Individualisten\, Designer und Kreat
 ive. Wir laden ein zum Stöbern\, Staunen und Kaufen von hochwertig gearbe
 iteten Einzelstücken und individuellen Dingen.\nErweitert wird der belieb
 te Kreativmarkt mit Stoffen\, Bändern\, Borten\, Wolle jeglicher Art\, Ga
 rnen\, Knöpfen\, Reißverschlüssen und anderem Zubehör. Die Auswahl bri
 ngt das DIY-Herz jedes Selbermachers zum Glühen. Viel Material und Stoff 
 – ganz nach dem Motto „Wir haben Stoff dabei...“\nSchauvorführungen
  und Mitmachaktionen sorgen für Kurzweil für die ganze Familie. Zahlreic
 he Aussteller bieten kostenlose DIY-Aktionen für Groß und Klein an. Kind
 er bis 14 Jahre haben übrigens freien Eintritt.\nKulinarische Leckereien 
 runden das Angebot ab.Mehr Infos unter: www.kreativmaerkte.de oder Tel. 03
 51-65284530.\nMitmachen kann jeder\, egal ob gewerblicher oder privater An
 bieter.Wir freuen uns auf Eure Anmeldungen bzw. auf Ihren Besuch!
LOCATION:Bergmannsstraße 1 08056 
SUMMARY:Kreativmarkt / Zwickau 
END:VEVENT
END:VCALENDAR
