BEGIN:VCALENDAR
VERSION:2.0
PRODID:icalendar-ruby
CALSCALE:GREGORIAN
BEGIN:VEVENT
DTSTAMP:20260423T215335Z
UID:0de14de4-7a05-4b79-9b53-9fd178dc74c4
DTSTART:20260705T080000
DTEND:20260705T160000
DESCRIPTION:Riesenflohmarkt auf dem Parkplatz der Firma ALDI in Fürth.Dies
 er Platz befindet sich direkt an der Karolinenstraße 90 in 90763 Fürth.\
 nKomplett asphaltiert - hier ist immer der TEUFEL los :) - Besucherströme
  und gute Umsätze sind hier üblich.Erreichbar mit den öffentlichen Verk
 ehrmitteln:\nAussteigen Fürth Hauptbahnhof egal ob mit U-Bahn oder Bus\nO
 nlinereservierung unter www.troedelteam-graage.de empfohlen oderam Vortag 
 von 20 bis 21 Uhr direkt am Platzoder Sonntag früh ab 8 Uhr einfach komme
 n\nTrödel: 5 Meter mit Auto oder Anhänger 30\,00€\nNeuware: 5 Meter mi
 t Auto oder Anhänger 40\,00€\nSie möchten einen kleinen Stand:Je Meter
  Trödel 5\,00€  Je Meter Neuware 8\,00€\nGrundgebühr an Sonntags un
 d Feiertagsmärkten pro Stand: 3 EuroTermindaueransage: 0911 - 32 96 23Bei
  weiteren Fragen erreichen Sie uns unterThomas: 0175 - 20 80 762 oder Dani
 : 0175 - 24 68 169 oder Lilli: 0171 - 79 41 826Jetzt gleich Platz sichern!
 Onlinereservierung unter:www.troedelteam-graage.de / OnlinereservierungLas
 st uns doch bitte unter https://www.facebook.com/troedelteam.graage/ Euer 
 Like da.
LOCATION:Karolinenstraße 90 90763 
SUMMARY:Flohmarkt Trödelmarkt Aldi Karolinenstraße 90 in 90763 Fürth ide
 al für Privatanbieter
END:VEVENT
END:VCALENDAR
