BEGIN:VCALENDAR
VERSION:2.0
PRODID:icalendar-ruby
CALSCALE:GREGORIAN
BEGIN:VEVENT
DTSTAMP:20260421T093006Z
UID:840477bf-15f4-4eaa-8713-d25bf2a21d31
DTSTART:20260920T100000
DTEND:20260920T160000
DESCRIPTION:Viele Haushalte in Eckenweiler öffnen zum 8. Mal ihre Garagen.
  Private Verkäufer organisieren ihre Garagenverkäufe selbst. Eine Rückn
 ahme oder Garantie ist generell ausgeschlossen. Die Verkäufer sind für I
 hre Angebote und die Abwicklung der Verkäufe jeweils selbst verantwortlic
 h. Es können nur Einwohner von Eckenweiler am Verkauf teilnehmen - keine 
 auswärtigen Verkäufer!\nDen Ortsplan und die Verpflegungsstationen auch 
 wieder auf unserer Homepage eingestellt:\nwww.fe-ld.de/aktuelles\nAm Dorfh
 aus verkaufen die Kinder vom Dorf Ihre Spielsachen selbst beim Kinderflohm
 arkt.\nFür Essen und Getränke ist gesorgt. Die Evangelische Kirchengemei
 nde öffnet zudem Ihr Gemeindehaus zu Kaffee- und Kuchen.\n \n 
LOCATION:- 72108 Eckenweiler
SUMMARY:Garagenflohmarkt in Eckenweiler
END:VEVENT
END:VCALENDAR
