BEGIN:VCALENDAR
VERSION:2.0
PRODID:icalendar-ruby
CALSCALE:GREGORIAN
BEGIN:VEVENT
DTSTAMP:20260421T084537Z
UID:a59493f4-204e-4a20-9f79-4e77effec5ed
DTSTART:20260314T130000
DTEND:20260314T170000
DESCRIPTION:Frischezentrum Nachmittagsmarkt\nFür einen überdachten Standp
 latz empfehlen wir eine Reservierung. \nBitte beachten Sie\, dass das Mit
 führen von Haustieren auf dem gesamten Gelände untersagt ist.\n \nPreis
 e und weitere Informationen finden Sie auf unserer Homepage www.weiss-maer
 kte.de
LOCATION:Am Martinszehnten 60437 Frankfurt
SUMMARY:Frischezentrum Trödeln am Nachmittag
END:VEVENT
END:VCALENDAR
