BEGIN:VCALENDAR
VERSION:2.0
PRODID:icalendar-ruby
CALSCALE:GREGORIAN
BEGIN:VEVENT
DTSTAMP:20260425T203705Z
UID:ab79b9fd-6f01-4acc-a3bd-b0181c71c88b
DTSTART:20260829T120000
DTEND:20260829T220000
DESCRIPTION:Street Food Festival Bad Godesberg auf dem Theaterplatz!Die WEv
 ent UG veranstaltet vom 28. bis zum 30. August in Zusammenarbeit mit dem B
 ad Godesberg Stadtmarketing e.V. das beliebte Street Food Festival auf dem
  Theaterplatz.Die neuen Veranstalter freuen sich darauf die Gäste auf ein
 e kulinarische Weltreise mitzunehmen.Auf dem Theaterplatz bieten mehr als 
 20 Stände ihre Köstlichkeiten an. Dabei können sich die Gäste unter an
 derem auf argentinische\, indoneische und afghanische Spezialitäten freue
 n.Daneben gibt es aber auch deftige Küche rund um Burger und Knödel in v
 erschiedenen Variationen. Für Unterhaltung der kleinen Gäste\, aber auch
  in den Abendstunden ist bestens gesorgt.Bei kühlen Getränken kann der S
 ommerabend gemütlich ausklingen.Der Eintritt ist über alle Tage frei.Öf
 fnungszeiten:Freitag von 15:00 - 22:00UhrSamstag von 12:00 - 22:00UhrSonnt
 ag von 12:00 - 22:00UhrDas Bad Godesberg Stadtmarketing e.V. und die WEven
 t UG freuen sich auf eine gelungene Veranstaltung.
LOCATION:Theaterplatz  53177 Bad Godesberg
SUMMARY:Street Food Festival Bad Godesberg 2026
END:VEVENT
END:VCALENDAR
