BEGIN:VCALENDAR
VERSION:2.0
PRODID:icalendar-ruby
CALSCALE:GREGORIAN
BEGIN:VEVENT
DTSTAMP:20260421T031215Z
UID:05944887-d11e-4344-8f82-899bce69e60a
DTSTART:20260712T110000
DTEND:20260712T170000
DESCRIPTION:Am Sonntag\, dem 12. Juli 2026 von 11-17 Uhr\, findet der Deuts
 ch-Holländische Stoffmarkt wieder in Xanten  statt. An zahlreichen bunt 
 dekorierten und teilweise mit Stoffen behangenen Ständen präsentieren si
 ch die Aussteller auf dem Markt.\nNähliebhaber wissen – Stoffe müssen 
 nicht nur gut aussehen\, sie müssen sich auch gut anfühlen. Dies ist ein
  großer Vorteil des Stoffmarktes gegenüber dem Online-Handel\, denn hier
  kann jeder Besucher die Produkte in die Hand nehmen und die Qualität sel
 bst begutachten.\nViele Besucher schätzen auch den direkten Kontakt zum E
 xperten. Vor allem für Nähneulinge bietet dies eine gute Möglichkeit si
 ch vor dem Kauf beraten zu lassen oder hilfreiche Tipps zu bekommen\, dami
 t das Nähprojekt auch ein voller Erfolg wird.\nAbgerundet wird das Angebo
 t durch eine riesige Auswahl an Schnittmustern und Kurzwaren wie Applikati
 onen\, Borten\, Nadeln oder Garn.\nDer Eintritt zum Stoffmarkt ist wie gew
 ohnt frei.\nWeitere Informationen finden Sie unter:deinstoffmarkt.de
LOCATION:Markt  46509 
SUMMARY:Stoffmarkt Xanten
END:VEVENT
END:VCALENDAR
