BEGIN:VCALENDAR
VERSION:2.0
PRODID:icalendar-ruby
CALSCALE:GREGORIAN
BEGIN:VEVENT
DTSTAMP:20260421T124240Z
UID:d3fbb3fc-9c6b-4fbd-bf4a-1d05f8dd4c6b
DTSTART:20261017T133000
DTEND:20261017T153000
DESCRIPTION:Sortierter Verkauf von Kinderkleidung\, Spielzeug\, Fahrzeuge u
 vm.\nEs wird die Ware von verschiedenen Verkäufern auf Komissionsbasis ve
 rkauft. Der Verein erhält von der verkauften Ware eine Provision. Dieser 
 Erlös kommt den Kindern und Jugendlichen von Eckenweiler zugute.\nKaffee/
 Kuchen/Waffeln (auch zum mitnehmen).\nToller Spielplatz nebenan für die w
 artenden Besucher.\nEinlass für Schwangere früher - bereits um 13 Uhr.\n
  \n 
LOCATION:Weitenburger Straße 11 72108 
SUMMARY:Kids-Börse Eckenweiler
END:VEVENT
END:VCALENDAR
