BEGIN:VCALENDAR
VERSION:2.0
PRODID:icalendar-ruby
CALSCALE:GREGORIAN
BEGIN:VEVENT
DTSTAMP:20260423T202420Z
UID:ab255904-5733-4037-8d32-494d9125e203
DTSTART:20260621T110000
DTEND:20260621T180000
DESCRIPTION:Dieser Antik- und Trödelmarkt ist einmalig in der EUREGIO.\nU
 mgeben vom Flair der alten Kaiserstadt Aachen stehen sie als Händler mit
  Ihrem Standplatz auf historischem Boden.\nUnzählige Besucher nutzen den 
 Altstadtflohmarkt als Freizeitvergnügen und stöbern  hier nach Herzensl
 ust nach alten Schätzchen.\nDiese Veranstaltung können Sie nicht online 
 buchen! Der lfdm Trödelware kostet hier 17\,- € \nSie erreichen uns in
  unserem Servicecenter unter folgenden Bürozeiten:\nMo &amp\; Fr    
      9:30 Uhr - 14:30 Uhr\nDi  &amp\; Do         9:00 Uhr - 1
 3.00 Uhr\nMittwochs bleibt unser Büro geschlossen.\nMittagspause: 13:00 U
 hr - 13.30. Uhr\n \nTel:     02401 - 80 488 40\nFax:    02401 - 80 
 488 41\nE-Mail:info@melan.de\nWir freuen uns auf Ihren Besuch!\nIm Herzen 
 Aachens\, vor historischer Kulisse von Dom und Rathaus lässt es sich herr
 lich flanieren. Vor allem dann\, wenn hier viermal im Jahr unsere Verkäuf
 er ihre Stände aufbauen. Aussteller aus der gesamten Euregio Maas-Rhein u
 nd teils auch von weiter her machen diesen Markt immer wieder zu einem Gen
 uss in einmaliger Trödelmarktatmosphäre.Öffnungszeit11.00 bis 18.00 Uhr
 ParkenRichten Sie sich in der Innenstadt bitte nach dem Parkleitsystem Dom
 /Rathaus.GastronomieFür Ihr leibliches Wohl ist gesorgt.AnfahrtZentrum Do
 m/Rathaus52062 AachenBuslinien: 4\, 5\, 14\, 15\, 24\, 25\, 36\, 44\, 45 u
 nd 55\nINFOS FÜR VERKÄUFERDiese besondere Kulisse ist ein Publikumsmagne
 t. Bieten Sie Ihre Waren einer internationalen Kundschaft an. \nAusschlie
 ßlich Trödel / AntiktrödelEs sind keine Pavillons oder Zelte gestattetD
 ie Standplatztiefe beträgt 2 Meter\nPKW/Transporter am StandPKW können n
 icht mit an den Platz genommen werden!\nZum Be- und Entladen darf man mit 
 dem Auto bis zu seinem Standplatz fahren (zwischen 9 und 17 Uhr nicht erla
 ubt)AufbauzeitenDer gebuchte Platz kann ab 6 Uhr eingenommen werden und wi
 rd bis 9 Uhr frei gehalten. Der Aufbau beginnt um 8 Uhr! Zwischen 9 bis 17
  Uhr ist das Befahren des Geländes mit dem PKW nicht gestattet.\n 
LOCATION:Katschhof 52062 
SUMMARY:Aachen Altstadt Antik- und Trödelmarkt
END:VEVENT
END:VCALENDAR
