BEGIN:VCALENDAR
VERSION:2.0
PRODID:icalendar-ruby
CALSCALE:GREGORIAN
BEGIN:VEVENT
DTSTAMP:20260424T161635Z
UID:a613c5ca-c0fd-41c1-9bd4-da6d0feba938
DTSTART:20261212T060000
DTEND:20261212T150000
DESCRIPTION:Das Angebot in der Südstadt zum Sammeln\, Entrümpeln\, Inform
 ieren und Unterhalten.\nKeine Standplatzreservierung möglich!Verkäufer*i
 nnen werden gebeten\, bis spätestens 6 Uhr (Samstag) bzw. 7 Uhr (Sonntag)
  vor Ort zu sein.\nKinder zwischen 7 und 15 Jahren können durch eigenen V
 erkauf von gebrauchten Spielsachen und persönlichen Gegenständen ihr Tas
 chengeld aufbessern (maximale Deckengröße 1\,20 x 1\,50 m).\nWeitere Inf
 ormationen finden Sie auf https://www.nuernberg.de/internet/kuf_kultur/ste
 inbuehler_troedelmarkt.html oder https://www.nuernberg.de/internet/kuf_kul
 tur/suedpunkt_veranstaltungen.html.\n 
LOCATION:Humboldtstraße 64 90459 Mitte
SUMMARY:Steinbühler Trödelmarkt
END:VEVENT
END:VCALENDAR
