BEGIN:VCALENDAR
VERSION:2.0
PRODID:icalendar-ruby
CALSCALE:GREGORIAN
BEGIN:VEVENT
DTSTAMP:20260424T161430Z
UID:2836ebd3-69dc-4eeb-aaaa-b93719bb7b63
DTSTART:20260628T070000
DTEND:20260628T150000
DESCRIPTION:Das Angebot in der Südstadt zum Sammeln\, Entrümpeln\, Inform
 ieren und Unterhalten. Kinder zwischen 7 und 15 Jahren können durch eigen
 en Verkauf von gebrauchten Spielsachen und persönlichen Gegenständen ihr
  Taschengeld aufbessern (maximale Deckengröße 1\,20 x 1\,50 m).\nWeitere
  Informationen finden Sie auf https://www.nuernberg.de/internet/kuf_kultur
 /steinbuehler_troedelmarkt.html oder https://www.nuernberg.de/internet/kuf
 _kultur/suedpunkt_veranstaltungen.html.\nAlle Termine des Steinbühler Son
 ntagströdelmarkts 2020:\n29.03.2020\n21.06.2020\n27.09.2020
LOCATION:Humboldtstraße 64 90459 Mitte
SUMMARY:Steinbühler Sonntagströdelmarkt
END:VEVENT
END:VCALENDAR
