BEGIN:VCALENDAR
VERSION:2.0
PRODID:icalendar-ruby
CALSCALE:GREGORIAN
BEGIN:VEVENT
DTSTAMP:20260423T184410Z
UID:c96168d8-31cf-4827-81eb-58dadbe78beb
DTSTART:20260628T090000
DTEND:20260628T163000
DESCRIPTION:Familientrödelmarkt in Hambach \nDie KG Böschremmele aus Ham
 bach lädt am Sonntag\, den 28. Juni ab 9 Uhr zum Familienflohmarkt auf de
 r Festwiese an der Bachstraße in Hambach ein.Angeboten wird z.B. Kleidung
 \, Spiele\, Bücher\, Werkzeuge\, Haushaltsgegenstände\, Porzellan\, Klei
 nmöbel und vieles mehr\, halt alles was man so im Keller\, Speicher\, Gar
 age etc. so findet. Dieser Trödelmarkt im Grünen hat seinen ganz besonde
 ren Flair. Da nur Privatpersonen ihre „Schätzchen“ zum Verkauf anbiet
 en\, wird der eine oder andere bestimmt ein „Schnäppchen“ machen kön
 nen. Für das leibliche Wohl ist auch gesorgt. Wir freuen uns auf Ihren Be
 such!\n \n 
LOCATION:Bachstraße 6G 52382 Hambach
SUMMARY:Familienflohmarkt nur Privatanbieer
END:VEVENT
END:VCALENDAR
