BEGIN:VCALENDAR
VERSION:2.0
PRODID:icalendar-ruby
CALSCALE:GREGORIAN
BEGIN:VEVENT
DTSTAMP:20260424T025137Z
UID:b2ab7ccc-9037-4096-a3d3-7516d8cd9977
DTSTART:20260712T080000
DTEND:20260712T160000
DESCRIPTION:Riesenflohmarkt auf dem Parkplatz der Firma BAYWA in Nürnberg.
 \nBekannter Platz direkt an der Kilianstraße 104a in 90425 Nürnbergkompl
 ett asphaltiertViele Besucherparkplätze! \nAutobahnausfahrt A3 Nürnberg
  Flughafen/E-TennenloheBusline 37 sowie 47 Haltestelle Kilianstraße\nRese
 rvierung am Vortag. von 20 bis 21 Uhr direkt am Platzoder Sonntag früh ab
  8 Uhr einfach kommen!\nTrödel: 5 Meter mit Auto oder Anhänger 30\,00€
 \nSie möchten einen kleinen Stand:Je Meter Trödel 5\,00€      Je Me
 ter Neuware 8\,00€\nGrundgebühr an Sonntags und Feiertagsmärkten pro S
 tand: 3 Euro\nTermindaueransage: 0911 - 32 96 23Bei weiteren Fragen erreic
 hen Sie uns unterThomas: 0175 - 20 80 762 oder Dani: 0175 - 24 68 169\nJet
 zt gleich Platz sichern! Onlinereservierung unter:www.troedelteam-graage.
 de / Onlinereservierung
LOCATION:Kilianstraße 104A 90425 Nordwestliche Außenstadt
SUMMARY:Riesenflohmarkt BAYWA Nürnberg Kilianstraße 104A
END:VEVENT
END:VCALENDAR
