BEGIN:VCALENDAR
VERSION:2.0
PRODID:icalendar-ruby
CALSCALE:GREGORIAN
BEGIN:VEVENT
DTSTAMP:20260420T123520Z
UID:a2949305-7397-468d-83d2-f1a29618d070
DTSTART:20260503T110000
DTEND:20260503T180000
DESCRIPTION:Großer Flohmarkt zum verkaufsoffenen Sonntag in Leinfelden! Je
 der kann ohne Anmeldung mitmachen! Einfach vorbeikommen! Es gibt genug Pla
 tz für alle! Platzvergabe ab 8 Uhr morgens! Unser Mitarbeiter zeigt Ihnen
  Ihren Standplatz! Standmiete € 9\,- pro Meter! Bezahlung vor Ort! Fahrz
 eug kostenlos am Stand! Neuwaren erlaubt!\nTisch\, Stuhl\, Kleiderstange e
 tc. bitte selbst mitbringen!\nBis dann!\n \nDer Markt findet bei jedem We
 tter statt!\n \nJetzt neu: Besuche www.gerosflohmarkt.de und verkaufe kos
 tenlos Deine Sachen online!\nGerosFlohmarkt.de - Flohmärkte und kostenlos
 e Kleinanzeigen!\n 
LOCATION:Hohenheimer Straße 7/2 70771 Leinfelden
SUMMARY:LE- Leinfelden\, EDEKA- Center\, Riesen- Sonntagsflohmarkt! Findet 
 statt! Ohne Voranmeldung! Ohne Termin! Einfach vorbeikommen!
END:VEVENT
END:VCALENDAR
