BEGIN:VCALENDAR
VERSION:2.0
PRODID:icalendar-ruby
CALSCALE:GREGORIAN
BEGIN:VEVENT
DTSTAMP:20260424T023246Z
UID:0ae1f8dd-9990-492a-9c6c-10882fc40039
DTSTART:20260614T070000
DTEND:20260614T150000
DESCRIPTION:Flohmarkt ( Freigelände )\n!!! KEINE RESERVIERUNG MÖGLICH !!!
 !!! NEUWARE NUR NACH ABSPRACHE!!!\nEinfach ab 6:00 Uhr hinkommen\nDer Aufb
 au beginnt an dem jeweiligen Tag ab 6:00 Uhr\nStandmiete: 8\,00 €uro je 
 laufendem MeterAuto / Anhänger am Stand: kostenlosStromanschluss: NICHT M
 ÖGLICHReinigungskaution: 5\,00 €uro ( diese gibt es ab 15:00 Uhr bei ge
 reinigtemStandplatz zurück )\n \nDer Flohmarkt findet von 7:00 - 15:00 U
 hr statt\nKontakt unter mh-flohmarkt@gmx.de\, Tel.: 0179-1791234 ( gerne a
 uch SMS und WhatsApp)
LOCATION:Elliehäuser Weg 19 37079 Weststadt
SUMMARY:Flohmarkt Kaufland Göttingen\, Elliehäuser Weg
END:VEVENT
END:VCALENDAR
