BEGIN:VCALENDAR
VERSION:2.0
PRODID:icalendar-ruby
CALSCALE:GREGORIAN
BEGIN:VEVENT
DTSTAMP:20260421T135730Z
UID:52363d60-66ba-43dc-954c-df829b8c0e4b
DTSTART:20260712T110000
DTEND:20260712T180000
DESCRIPTION:Regelmäßig stattfindender Trödelmarkt im Dürener Süden an 
 der Automeile. Gerade bei schönem Wetter findet man hier viele private Au
 ssteller welche ihre ganz persönlichen Schätze anbieten aber auch intere
 ssante Neuwartenstände sind vertreten.\nNutzen Sie die Gelegenheit Dinge 
 die Sie nicht mehr benötigen zu Geld zu machen - oder Sie sind privater (
 Hobby-)Trödler oder wollen ein solcher werden\, dann sind Sie natürlich 
 auch herzlich willkomen.\nParken BesucherEin Teil des Geländes dient als 
 Besucherparkplatz. \nStandplatzreservierungenüber unser Büro: bis Freit
 ag vor dem Markt 12 Uhrvor Ort: Samstag 17 Uhr\, Sonntag ab 7 Uhr\nParken 
 Aussteller / PKW am StandGenerell können Sie Ihr Fahrzeug quer hinter dem
  Stand parken sofern die Länge des Fahrzeuges der Standlänge entspricht 
 (z. B. Golf-Größe ab 4 lfd. Metern / Kombi ab 5 lfd. Metern). Fragen Sie
  im Zweifel gerne die Marktleitung vor Ort bzw. entnehmen Sie die Länge I
 hres Fahrzeuges dem Fahrzeugschein.\nStandaufbauAb 7 Uhr - jedoch nicht vo
 r Eintreffen der Marktleitung (erkennbar an der gelben Weste / rotes T-Shi
 rt bzw. Pullover)\nVerkaufszeit11 bis 18 Uhr\, Abbau ab 16 Uhr möglich\nS
 tandmietenGrundgebühr / Stand: 5€lfd. Meter Trödel 12€lfd. Meter Neu
 ware 20€lfd. Meter Textil / Lederwaren / Werkzeug 22€Eckplatzzuschlag:
  20€Reinigungskaution: 5€ (bei sauberem Verlassen zurück)Angebot: 5 M
 tr. Trödel nur 45€
LOCATION:Nikolaus-Otto-Straße 8 52351 
SUMMARY:Düren OBI
END:VEVENT
END:VCALENDAR
