BEGIN:VCALENDAR
VERSION:2.0
PRODID:icalendar-ruby
CALSCALE:GREGORIAN
BEGIN:VEVENT
DTSTAMP:20260424T043405Z
UID:eaeadead-1cbb-4cfb-8b8a-6f0c5186655d
DTSTART:20260913T110000
DTEND:20260913T180000
DESCRIPTION:
LOCATION:Hindenburgplatz  47506 
SUMMARY:Neukirchen-Vluyn\, Am Markt 
END:VEVENT
END:VCALENDAR
