BEGIN:VCALENDAR
VERSION:2.0
PRODID:icalendar-ruby
CALSCALE:GREGORIAN
BEGIN:VEVENT
DTSTAMP:20260424T221517Z
UID:bea335cf-1afd-4bc4-98cc-d4f49d1ba7ed
DTSTART:20260524T083000
DTEND:20260524T160000
DESCRIPTION:Erstmals seit vielen Jahren veranstalten wir wieder den famila-
 Flohmarkt in Bargteheide. Wir wollen an die "guten alten Zeiten" anknüpf
 en und freuen uns\, diesen Flohmarkt mit Ihnen wieder aufleben zu lassen.
  Die gute Anbindung und das große Einzugsgebiet werden auch hier zahlreic
 he Aufsteller und Besucher anlocken und diese Veranstaltung unvergesslich 
 machen!
LOCATION:Am Redder 2 22941 
SUMMARY:famila Bargteheide
END:VEVENT
END:VCALENDAR
