BEGIN:VCALENDAR
VERSION:2.0
PRODID:icalendar-ruby
CALSCALE:GREGORIAN
BEGIN:VEVENT
DTSTAMP:20260425T000305Z
UID:2595e7dc-8422-4227-8c32-60051ed14859
DTSTART:20260621T083000
DTEND:20260621T160000
DESCRIPTION:Erstmals seit vielen Jahren veranstalten wir wieder den famila-
 Flohmarkt in Bargteheide. Wir wollen an die "guten alten Zeiten" anknüpf
 en und freuen uns\, diesen Flohmarkt mit Ihnen wieder aufleben zu lassen.
  Die gute Anbindung und das große Einzugsgebiet werden auch hier zahlreic
 he Aufsteller und Besucher anlocken und diese Veranstaltung unvergesslich 
 machen!
LOCATION:Am Redder 2 22941 
SUMMARY:famila Bargteheide
END:VEVENT
END:VCALENDAR
