BEGIN:VCALENDAR
VERSION:2.0
PRODID:icalendar-ruby
CALSCALE:GREGORIAN
BEGIN:VEVENT
DTSTAMP:20260424T221824Z
UID:f4e86a9d-ba7e-4c4d-a392-26fda8e8a93d
DTSTART:20260802T083000
DTEND:20260802T160000
DESCRIPTION:Erstmals seit vielen Jahren veranstalten wir wieder den famila-
 Flohmarkt in Bargteheide. Wir wollen an die "guten alten Zeiten" anknüpf
 en und freuen uns\, diesen Flohmarkt mit Ihnen wieder aufleben zu lassen.
  Die gute Anbindung und das große Einzugsgebiet werden auch hier zahlreic
 he Aufsteller und Besucher anlocken und diese Veranstaltung unvergesslich 
 machen!
LOCATION:Am Redder 2 22941 
SUMMARY:famila Bargteheide
END:VEVENT
END:VCALENDAR
