BEGIN:VCALENDAR
VERSION:2.0
PRODID:icalendar-ruby
CALSCALE:GREGORIAN
BEGIN:VEVENT
DTSTAMP:20260421T233113Z
UID:85c062b2-1cc0-4f70-91d1-5557112da010
DTSTART:20261017T100000
DTEND:20261017T180000
DESCRIPTION:Sie möchten auf dem Flohmarkt Am Hohen Ufer einen Stand aufbau
 en und Ihre "Schätze" verkaufen? Dann gibt es für Sie einige Dinge zu be
 achten:\nDer Altstadtflohmarkt Hannover  ist ein traditioneller Flohmarkt
  und weit über Hannovers Stadtgrenzen bekannt. Der Flohmarkt findet von M
 ärz - Oktober jeden Samstag statt und ist von 10 bis 18 Uhr geöffnet (d
 er Aufbau startet ab 8:00 Uhr\, Abbau ist ab 16 Uhr erlaubt). Eine vorheri
 ge Anmeldung für Verkäufer ist nicht erforderlich. Schauen Sie doch auc
 h mal beim Flohmarkt vorbei!\nAm 7. März 2026 gehts weiter!\nWas verkauft
  werden darf sowie Hinweise zum Beispiel zum Be- und Entladen entnehmen Si
 e bitte der Flohmarktordnung unter www.visit-hannover.com/flohmarkt. Als G
 rundlage für den Teilnehmerpreis am Flohmarkt gilt die Fläche eines hand
 elsüblichen Tapeziertisches.\nACHTUNG: Bedingt durch die Lage des Flohmar
 ktes ist es nicht möglich\, seinen Stand direkt vor dem Auto aufzubauen\,
  wie z. B. beim Flohmarkt in Langenhagen auf der Rennbahn.\nInfos: https:/
 /www.visit-hannover.com/flohmarkt
LOCATION:Am Hohen Ufer  30159 Mitte
SUMMARY:Altstadtflohmarkt Hannover
END:VEVENT
END:VCALENDAR
