BEGIN:VCALENDAR
VERSION:2.0
PRODID:icalendar-ruby
CALSCALE:GREGORIAN
BEGIN:VEVENT
DTSTAMP:20260420T234426Z
UID:9d7a12f2-166c-4243-93ed-4157b828652c
DTSTART:20260704T080000
DTEND:20260704T160000
DESCRIPTION:Von A wie Antiquitäten bis Z wie Zeitschriften\, alles was fü
 r einen Flohmarkt typisch ist\, kann rund um den historischen Marktplatz v
 erkauft werden.\n \nPreis pro Meter 10\,00 €\nWir bitten um Verständni
 s\, dass nach erfolgter Anmeldung zum Flohmarkt\n* bei Nichtteilnahme die 
 Hälfte der anfallenden Standgebühr\n* bei Nichterscheinen bzw. unentschu
 ldigtem Fehlen die komplette Standgebühr\nin Rechnung gestellt wird.\n \
 nWir freuen uns auf Sie!\nIhr Team des SV Leonberg/Eltingen e. V.
LOCATION:Marktplatz  71229 
SUMMARY:Altstadtflohmarkt
END:VEVENT
END:VCALENDAR
