BEGIN:VCALENDAR
VERSION:2.0
PRODID:icalendar-ruby
CALSCALE:GREGORIAN
BEGIN:VEVENT
DTSTAMP:20260421T051843Z
UID:1b2ab9b5-e8f1-4c8f-ac77-4ffd7fd53c11
DTSTART:20260510T110000
DTEND:20260510T170000
DESCRIPTION:Flohmarkt auf dem Gelände Vorteil Center Unkel. Plätze unter 
 Dach und im Freien vorhanden.\nPlatzvergabe ab 6.00 Uhr\nStandgebühren pr
 o lfd. Meter Trödel im Freien € 11\,00\, unter Dach € 13\,00\, zuzüg
 lich € 5\,00 Grundgebühr\nStandplätze ab 3m Standbreite.\n \n \n \n
  
LOCATION:Anton-Limbach-Straße 3 53572 Unkel
SUMMARY:Flohmarkt Unkel\, Vorteil Center
END:VEVENT
END:VCALENDAR
