BEGIN:VCALENDAR
VERSION:2.0
PRODID:icalendar-ruby
CALSCALE:GREGORIAN
BEGIN:VEVENT
DTSTAMP:20260421T051924Z
UID:2828eb7f-e247-4e28-83ac-e8a2513f3b80
DTSTART:20261018T110000
DTEND:20261018T170000
DESCRIPTION:Flohmarkt auf dem Gelände Vorteil Center Unkel. Plätze unter 
 Dach und im Freien vorhanden.\nPlatzvergabe ab 6.00 Uhr\nStandgebühren pr
 o lfd. Meter Trödel im Freien € 11\,00\, unter Dach € 13\,00\, zuzüg
 lich € 5\,00 Grundgebühr\nStandplätze ab 3m Standbreite.\n \n \n \n
  
LOCATION:Anton-Limbach-Straße 3 53572 Unkel
SUMMARY:Flohmarkt Unkel\, Vorteil Center
END:VEVENT
END:VCALENDAR
