BEGIN:VCALENDAR
VERSION:2.0
PRODID:icalendar-ruby
CALSCALE:GREGORIAN
BEGIN:VEVENT
DTSTAMP:20260425T103526Z
UID:35080476-e6ac-441f-a78c-f9d72d88ff5e
DTSTART:20260913T090000
DTEND:20260913T170000
DESCRIPTION:„Antik- &amp\; Trödelmärkte“ Halbinsel Pouch:   4 Märk
 te in 2026 geplant06774 Muldestausee OT Pouch\, Zur Agora 1\n \nbitte nur
  von Markt zu Markt anmelden!\nFr-So 17.-19. April 2026\nFr-So 12.-14. Jun
 i 2026\nFr-So 31.07.-02. August 2026\nFr-So 11.-13. September 2026\nVerkau
 fszeiten:\nFreitags:                     12-18 Uhr\nSa/So:   
                      09-17 Uhr\n \nAufbauzeiten:\nDonnerstags: 
             15-18 Uhr\nFreitags:                    0
 8.00 – 11.00 Uhr und 17.00 Uhr – 20.00 Uhr\nSa/So:             
           06-08 Uhr\n \nNeu auf der Halbinsel Pouch:1. Standtiefe f
 ür jeden Händler: 7m inkl. Fahrzeuge! Laufwege für Besucher: 7m!2. Hän
 dler-Anmeldung nur schriftlich mit Anschrift und Meterzahl (Daten s.u.)3. 
 Bezahlung vor Einfahrt auf den Platz. 1Meter = 10 Euro\, Wer Samstag und S
 onntag mit mindestens 10m steht\, bekommt von uns den Freitag geschenkt (g
 ratis dazu\, also ohne Standgeld). Wer unter 10m hat und SA und SO kommt b
 ezahlt für Freitag pauschal nur 10 €. Ansonsten grundsätzlich 10 Euro 
 pro Meter pro Tag. Mindeststandgröße : 3m x 10 = 30 Euro.\nStrom pro Tag
  10 € / Tag.\nBestellungen werden von uns bestätigt und sind damit kost
 enpflichtig verbindlich. Bei Nichterscheinen oder Nichtabsage (mind. 1 Woc
 he vorher) erheben wir 20 Euro Kostenpauschale.\nEs gilt: die vollständig
 en Marktzeiten sind unbedingt einzuhalten! Früheinpacker unerwünscht. Zu
 widerhandlungen führen zum Ausschluss von unseren Märkten. Es gilt die P
 latz- und Marktordnung der Halbinsel Pouch. Offenes Feuer verboten! Hunde 
 sind generell anzuleinen. Müll/Verpackungen usw. sind durch jeden Händle
 r selbst wieder mitzunehmen!\n \nAnmeldung schriftlich an: SMS/WhatsApp: 
 0177/7994791 mail: info@dacapo-agentur.de\n(Bitte nicht mehr unter Faceboo
 k anmelden!)Name\, Vorname Anschrift\, Handy\, eMailwann und wieviel m?\nW
 as wird verkauft?\nStrom ?Privat/gewerblich?\nMfg Herbst (Veranstalter) ww
 w.dacapo-agentur.de\n 
LOCATION:Zur Agora 1 06774 Pouch
SUMMARY:"Antik- &amp\; Trödelmarkt" Halbinsel Pouch/Bitterfeld 11.-13. Sep
 tember 2026\, 3 Tage
END:VEVENT
END:VCALENDAR
