BEGIN:VCALENDAR
VERSION:2.0
PRODID:icalendar-ruby
CALSCALE:GREGORIAN
BEGIN:VEVENT
DTSTAMP:20260426T042114Z
UID:49ab9573-80f3-4baf-9cd1-6e3884c68640
DTSTART:20260620T090000
DTEND:20260620T180000
DESCRIPTION:
LOCATION:Rheinallee 4 53557 
SUMMARY:Rheinpromenade
END:VEVENT
END:VCALENDAR
