BEGIN:VCALENDAR
VERSION:2.0
PRODID:icalendar-ruby
CALSCALE:GREGORIAN
BEGIN:VEVENT
DTSTAMP:20260426T030445Z
UID:06e23f48-426f-4f96-86c6-801305250785
DTSTART:20260719T090000
DTEND:20260719T180000
DESCRIPTION:
LOCATION:Rheinallee 4 53557 
SUMMARY:Rheinpromenade
END:VEVENT
END:VCALENDAR
