BEGIN:VCALENDAR
VERSION:2.0
PRODID:icalendar-ruby
CALSCALE:GREGORIAN
BEGIN:VEVENT
DTSTAMP:20260426T041956Z
UID:ca867143-91af-42a2-914b-3c291ed73acd
DTSTART:20260830T090000
DTEND:20260830T180000
DESCRIPTION:
LOCATION:Rheinallee 4 53557 
SUMMARY:Rheinpromenade
END:VEVENT
END:VCALENDAR
