BEGIN:VCALENDAR
VERSION:2.0
PRODID:icalendar-ruby
CALSCALE:GREGORIAN
BEGIN:VEVENT
DTSTAMP:20260426T025004Z
UID:bbf67805-2613-414b-8d8a-743f7f27ade2
DTSTART:20260523T090000
DTEND:20260523T180000
DESCRIPTION:
LOCATION:Rheinallee 4 53557 
SUMMARY:Rheinpromenade
END:VEVENT
END:VCALENDAR
