BEGIN:VCALENDAR
VERSION:2.0
PRODID:icalendar-ruby
CALSCALE:GREGORIAN
BEGIN:VEVENT
DTSTAMP:20260422T020937Z
UID:bb28f801-0f52-4459-bad5-d787d39aa75e
DTSTART:20260530T080000
DTEND:20260530T160000
DESCRIPTION:Großer Flohmarkt auf dem Festplatz in Saarbrücken-Burbach\n 
 \nWir freuen uns auch dieses Jahr wieder auf zahlreichen Zulauf an neuen H
 ändlern und natürlich auf unsere neuen so wie alten Kunden.\n \nVERANST
 ALTER\nMarktveranstaltungen Schreier\nEiweilerstraße 1\n66793 Saarwelling
 en\nTel. 06838/85222          \nInfo@mv-schreier.de         
                          \nwww.mv-schreier.de\nSc
 hauen Sie auf unserer Webseite nach aktuellen Terminen und wöchentlichen 
 Flohmarktveranstaltungen
LOCATION:Käthe-Kollwitz-Straße  66115 West
SUMMARY:Großer Flohmarkt Saarbrücken - Burbach Festplatz (Saarterrassen)
END:VEVENT
END:VCALENDAR
