BEGIN:VCALENDAR
VERSION:2.0
PRODID:icalendar-ruby
CALSCALE:GREGORIAN
BEGIN:VEVENT
DTSTAMP:20260422T002845Z
UID:2ef52912-dcda-4a86-9160-50b5a5d806c7
DTSTART:20260531T110000
DTEND:20260531T170000
DESCRIPTION:Großer Flohmarkt auf dem Festplatz in Saarbrücken-Burbach\n 
 \nWir freuen uns auch dieses Jahr wieder auf zahlreichen Zulauf an neuen H
 ändlern und natürlich auf unsere neuen so wie alten Kunden.\n \nVERANST
 ALTER\nMarktveranstaltungen Schreier\nEiweilerstraße 1\n66793 Saarwelling
 en\nTel. 06838/85222          \nInfo@mv-schreier.de         
                          \nwww.mv-schreier.de\nSc
 hauen Sie auf unserer Webseite nach aktuellen Terminen und wöchentlichen 
 Flohmarktveranstaltungen
LOCATION:Käthe-Kollwitz-Straße  66115 West
SUMMARY:Großer Flohmarkt Saarbrücken - Burbach Festplatz (Saarterrassen)
END:VEVENT
END:VCALENDAR
