BEGIN:VCALENDAR
VERSION:2.0
PRODID:icalendar-ruby
CALSCALE:GREGORIAN
BEGIN:VEVENT
DTSTAMP:20260423T015257Z
UID:b35457f8-6e1b-4b4a-8346-5acc7321e27b
DTSTART:20260614T080000
DTEND:20260614T160000
DESCRIPTION:Enkler - Einer der günstigsten Veranstalter Süddeutschlands. 
 Bekannt für gutbesuchte und umsatzstarke Floh-\, Trödel-\, Sammler- und 
 Jahrmärkte in Ihrer Nähe. Bekannt und bewährt seit über 25 Jahren!!!\n
 Weitere Infos unter: www.markt-enkler.de\nGerne beantworten wir Ihre Frage
 n\, schreiben Sie uns einfach eine Email:enklers-maerkte@web.de
LOCATION:Am Festplatz 4 92334 
SUMMARY:Berching Festplatz bei Uferpromenade
END:VEVENT
END:VCALENDAR
