BEGIN:VCALENDAR
VERSION:2.0
PRODID:icalendar-ruby
CALSCALE:GREGORIAN
BEGIN:VEVENT
DTSTAMP:20260424T021952Z
UID:5b2ddc2c-4e9f-45fb-8884-6b65be731f40
DTSTART:20261129T080000
DTEND:20261129T160000
DESCRIPTION:Riesenflohmarkt auf dem Parkplatz der Firma HORNBACH in Fürth.
 \nDieser Platz befindet sich direkt an der Magazinstraße 90 in 90763 Für
 th.\nKomplett asphaltiert - hier ist immer der TEUFEL los :) - Besucherstr
 öme und gute Umsätze sind hier üblich.\nErreichbar mit dem Auto:\nÜber
  die B8 Ausfahrt Nürnberg Höfen\nErreichbar mit den öffentlichen Verkeh
 rmitteln:\nBuslinie 177 oder 179 Haltestelle Fürth Gartenkolonie Südstad
 t 1\nOnlinereservierung unter www.troedelteam-graage.de empfohlen oderam V
 ortag von 20 bis 21 Uhr direkt am Platzoder Sonntag früh ab 8 Uhr einfach
  kommen\nTrödel: 5 Meter mit Auto oder Anhänger 30\,00€\nNeuware: 5 Me
 ter mit Auto oder Anhänger 40\,00€\nSie möchten einen kleinen Stand:Je
  Meter Trödel 5\,00€  Je Meter Neuware 8\,00€\nGrundgebühr an Sonnt
 ags und Feiertagsmärkten pro Stand: 3 Euro\nTermindaueransage: 0911 - 32 
 96 23Bei weiteren Fragen erreichen Sie uns unterThomas: 0175 - 20 80 762 o
 der Dani: 0175 - 24 68 169 oder Lilli: 0171 - 79 41 826\nJetzt gleich Plat
 z sichern!Onlinereservierung unter:www.troedelteam-graage.de / Onlinereser
 vierung\nLasst uns doch bitte unter https://www.facebook.com/troedelteam.g
 raage/ Euer Like da.
LOCATION:Magazinstraße 90 90763 
SUMMARY:Riesenflohmarkt Hornbach Fürth Magazinstraße Trödel und Neuware 
 erlaubt Geheimtip
END:VEVENT
END:VCALENDAR
