BEGIN:VCALENDAR
VERSION:2.0
PRODID:icalendar-ruby
CALSCALE:GREGORIAN
BEGIN:VEVENT
DTSTAMP:20260422T080017Z
UID:b1d31a77-888d-4908-80b2-3a82d993b454
DTSTART:20260719T110000
DTEND:20260719T180000
DESCRIPTION:Traditionsmarkt im Herzen von Velbert. Zahlreiche private Ausst
 eller mit gebrauchten Dingen und Schätzen bieten hier in der Zeit von 11 
 bis 18 Uhr ihre Dinge feil. Suchen Sie Ihr ganz persönliches Schnäppchen
  zwischen Trödel\, Schnäppchen und Mehr sowie der ansässigen Gastronomi
 e. Wer in Kisten kramen möchten oder nach alten oder kuriosen Dingen such
 t ist hier richtig. Darüber hinaus ist nahe der Sparkasse eine kleines ku
 linarisches Ausstellergrüppchen vertreten mit zum Beispiel frischem cremi
 gem Softeis mit Schokoladenüberzug. \nOder trödeln Sie doch einfach sel
 bst mit:Ein 3-Meter-Tisch kostet im Vorverkauf für alle Velberter (beim S
 tadtmarketing Velbert) aktuell nur 33€\, alternativ kann über unser Bü
 ro unter www.rieder-maerkte.de gebucht werden.\nKindertrödel ist erwünsc
 ht\, es gelten aber keine gesonderten Konditionen\nDie Vergaben vor Ort si
 nd:Ab 16 Uhr für alle mit PröttelkarteAb 17 Uhr für alle die noch keine
  Karte habenSonntags ab 7 Uhr Restvergabe\nÖffnungszeiten Markt:11-18 Uhr
 Aufbau ab 7 Uhr\nFür weitere Informationen\, eine Anfrage oder Buchung kl
 icken Sie bitte auf unsere Homepage rieder-maerkte.de
LOCATION:Friedrichstraße  42551 
SUMMARY:Pröttelmarkt Velbert Friedrichstraße
END:VEVENT
END:VCALENDAR
