BEGIN:VCALENDAR
VERSION:2.0
PRODID:icalendar-ruby
CALSCALE:GREGORIAN
BEGIN:VEVENT
DTSTAMP:20260420T055933Z
UID:ac7a3468-329d-4e10-9b08-fa5b96d608e0
DTSTART:20260501T100000
DTEND:20260501T180000
DESCRIPTION:Die auf dem Düsseldorfer Grafenberg gelegene Galopprennbahn\, 
 zählt zu einer der schönsten Rennbahnen Deutschlands. Umgeben von einem 
 großzügigen Waldgebiet\, entfaltet Sie Ihren exklusiven Charme und lädt
  mit Ihrem einzigartigen Ambiente zum Verweilen und Entspannen ein.\nÜber
  160 Aussteller werden Ihr ausgewähltes Warenangebot aus den Bereichen Ge
 nuss &amp\; Kulinarik\, Haus &amp\; Garten\, Mode &amp\; Schmuck sowie Kun
 st &amp\; Lebensart präsentieren.\nGerne laden wir Sie auf ein kurzweilig
 es Wochenende bei gehobener Gastronomie und Musik ein\, seien Sie unsere G
 äste auf der Düsseldorfer Galopprennbahn in Grafenberg!
LOCATION:Rennbahnstraße 20 40629 Stadtbezirk 7
SUMMARY:Landpartie Grafenberg
END:VEVENT
END:VCALENDAR
