BEGIN:VCALENDAR
VERSION:2.0
PRODID:icalendar-ruby
CALSCALE:GREGORIAN
BEGIN:VEVENT
DTSTAMP:20260420T171557Z
UID:5a41298b-c778-44c5-8356-20313a266a25
DTSTART:20260524T100000
DTEND:20260524T180000
DESCRIPTION:Das Areal des 1123 gegründeten Zisterzienserklosters\, mit sei
 nem im Jahr 1700 während der Amtszeit des Abtes Edmundus von Richterich (
 1695-1715) geschaffenen barocken Terrassengartens\, wird sicher auch Sie v
 erzaubern.\nIm Bereich dieses an den Potsdamer Park Sanssouci erinnernden 
 Barockgartens\, im anschließenden „Alten Garten“ mit seinen Blumen un
 d Nutzpflanzen sowie des im Zuge der Landesgartenschau 2020 geschaffenen P
 aradiesgartens finden Sie unsere ausgewählten Aussteller mit ihren hochwe
 rtigen Waren.\nLassen Sie sich inmitten dieser Gärten inspirieren von zau
 berhaften Dekorationen\, Gartenmöbeln aus hochwertigen unterschiedlichen 
 Materialien sowie stilvoller Mode und individuellen Schmuckstücken. Probi
 eren Sie Delikatessen der Genussmanufakturen und erleben Sie Künstler mit
  ihren ausdrucksstarken Unikaten.\nWir freuen uns auf Sie als unsere Gäst
 e an einem wunderbaren Ort\, an dem auch Sie bei Klaviermusik in einem uns
 erer liebevollen Biergärten den Zauber jeden Anfangs spüren.
LOCATION:Abteiplatz 13 47475 
SUMMARY:Herbstpartie Kloster Kamp
END:VEVENT
END:VCALENDAR
