BEGIN:VCALENDAR
VERSION:2.0
PRODID:icalendar-ruby
CALSCALE:GREGORIAN
BEGIN:VEVENT
DTSTAMP:20260424T155943Z
UID:1a26b8bd-83ca-4081-a61d-e94367c94cdc
DTSTART:20260507T100000
DTEND:20260507T160000
DESCRIPTION:Wir bieten schöne Dinge\, die im Küchen-Museum nicht mehr geb
 raucht werden. Küchen-Möbel\, Geräte\, Geschirr\, Gläser\, Deko und vi
 eles mehr. Jede Woche Neuzugänge.
LOCATION:Spichernstraße  30161 Vahrenwald-List
SUMMARY:Shop-Verkauf im Küchenmuseum
END:VEVENT
END:VCALENDAR
