BEGIN:VCALENDAR
VERSION:2.0
PRODID:icalendar-ruby
CALSCALE:GREGORIAN
BEGIN:VEVENT
DTSTAMP:20260424T161430Z
UID:b793234f-640d-4c37-936f-bb7a3b20b27e
DTSTART:20260514T100000
DTEND:20260514T160000
DESCRIPTION:Wir bieten schöne Dinge\, die im Küchen-Museum nicht mehr geb
 raucht werden. Küchen-Möbel\, Geräte\, Geschirr\, Gläser\, Deko und vi
 eles mehr. Jede Woche Neuzugänge.
LOCATION:Spichernstraße  30161 Vahrenwald-List
SUMMARY:Shop-Verkauf im Küchenmuseum
END:VEVENT
END:VCALENDAR
