BEGIN:VCALENDAR
VERSION:2.0
PRODID:icalendar-ruby
CALSCALE:GREGORIAN
BEGIN:VEVENT
DTSTAMP:20260424T151731Z
UID:fb66930b-0157-4160-ae77-2d5f17d49a85
DTSTART:20260521T100000
DTEND:20260521T160000
DESCRIPTION:Wir bieten schöne Dinge\, die im Küchen-Museum nicht mehr geb
 raucht werden. Küchen-Möbel\, Geräte\, Geschirr\, Gläser\, Deko und vi
 eles mehr. Jede Woche Neuzugänge.
LOCATION:Spichernstraße  30161 Vahrenwald-List
SUMMARY:Shop-Verkauf im Küchenmuseum
END:VEVENT
END:VCALENDAR
