BEGIN:VCALENDAR
VERSION:2.0
PRODID:icalendar-ruby
CALSCALE:GREGORIAN
BEGIN:VEVENT
DTSTAMP:20260424T164251Z
UID:4e96a6c1-00dc-46c0-8606-de91004492cb
DTSTART:20260611T100000
DTEND:20260611T160000
DESCRIPTION:Wir bieten schöne Dinge\, die im Küchen-Museum nicht mehr geb
 raucht werden. Küchen-Möbel\, Geräte\, Geschirr\, Gläser\, Deko und vi
 eles mehr. Jede Woche Neuzugänge.
LOCATION:Spichernstraße  30161 Vahrenwald-List
SUMMARY:Shop-Verkauf im Küchenmuseum
END:VEVENT
END:VCALENDAR
